BEGIN:VCALENDAR
VERSION:2.0
PRODID:-//Plone.org//NONSGML plone.app.event//EN
X-WR-TIMEZONE:Europe/Madrid
BEGIN:VEVENT
SUMMARY:Esdeveniment de mostra 1
DTSTART;TZID=Europe/Madrid:20230213T150000
DTEND;TZID=Europe/Madrid:20630203T150000
DTSTAMP:20260424T154400Z
UID:0a8923efeeae444aad59c9538a7ea300@ercbambbi.upc.edu
CONTACT:Responsable esdeveniment\, adreca@noreply.com
CREATED:20230213T145953Z
LAST-MODIFIED:20230213T145953Z
LOCATION:Lloc de l'esdeveniment
URL:https://ercbambbi.upc.edu/ca/esdeveniments/esdeveniment-de-mostra-1
END:VEVENT
BEGIN:VEVENT
SUMMARY:Esdeveniment de mostra 2
DTSTART;TZID=Europe/Madrid:20230213T150000
DTEND;TZID=Europe/Madrid:20630203T150000
DTSTAMP:20260424T154400Z
UID:05e484c0fb684932b4123eee27c86a6e@ercbambbi.upc.edu
CONTACT:Responsable esdeveniment\, adreca@noreply.com
CREATED:20230213T145953Z
LAST-MODIFIED:20230213T145953Z
LOCATION:Lloc de l'esdeveniment
URL:https://ercbambbi.upc.edu/ca/esdeveniments/esdeveniment-de-mostra-2
END:VEVENT
BEGIN:VEVENT
SUMMARY:Esdeveniment de mostra 3
DTSTART;TZID=Europe/Madrid:20230213T150000
DTEND;TZID=Europe/Madrid:20630203T150000
DTSTAMP:20260424T154400Z
UID:04c5df261c1645e6aae80c3232b1a0d2@ercbambbi.upc.edu
CONTACT:Responsable esdeveniment\, adreca@noreply.com
CREATED:20230213T145953Z
LAST-MODIFIED:20230213T145953Z
LOCATION:Lloc de l'esdeveniment
URL:https://ercbambbi.upc.edu/ca/esdeveniments/esdeveniment-de-mostra-3
END:VEVENT
BEGIN:VEVENT
SUMMARY:Esdeveniment de mostra 4
DTSTART;TZID=Europe/Madrid:20230213T150000
DTEND;TZID=Europe/Madrid:20630203T150000
DTSTAMP:20260424T154400Z
UID:1bc3ba5d58e54cffaeddc7e3f2298b42@ercbambbi.upc.edu
CONTACT:Responsable esdeveniment\, adreca@noreply.com
CREATED:20230213T145953Z
LAST-MODIFIED:20230213T145953Z
LOCATION:Lloc de l'esdeveniment
URL:https://ercbambbi.upc.edu/ca/esdeveniments/esdeveniment-de-mostra-4
END:VEVENT
BEGIN:VTIMEZONE
TZID:Europe/Madrid
X-LIC-LOCATION:Europe/Madrid
BEGIN:STANDARD
DTSTART:20221030T020000
TZNAME:CET
TZOFFSETFROM:+0200
TZOFFSETTO:+0100
END:STANDARD
BEGIN:STANDARD
DTSTART:20371025T020000
TZNAME:CET
TZOFFSETFROM:+0200
TZOFFSETTO:+0100
END:STANDARD
END:VTIMEZONE
END:VCALENDAR
